BEGIN:VCALENDAR
VERSION:2.0
PRODID:-//Denison Golf Club - ECPv6.14.1//NONSGML v1.0//EN
CALSCALE:GREGORIAN
METHOD:PUBLISH
X-WR-CALNAME:Denison Golf Club
X-ORIGINAL-URL:https://www.denisongolfclub.com
X-WR-CALDESC:Events for Denison Golf Club
REFRESH-INTERVAL;VALUE=DURATION:PT1H
X-Robots-Tag:noindex
X-PUBLISHED-TTL:PT1H
BEGIN:VTIMEZONE
TZID:America/Toronto
BEGIN:DAYLIGHT
TZOFFSETFROM:-0500
TZOFFSETTO:-0400
TZNAME:EDT
DTSTART:20190310T070000
END:DAYLIGHT
BEGIN:STANDARD
TZOFFSETFROM:-0400
TZOFFSETTO:-0500
TZNAME:EST
DTSTART:20191103T060000
END:STANDARD
END:VTIMEZONE
BEGIN:VEVENT
DTSTART;TZID=America/Toronto:20190816T123000
DTEND;TZID=America/Toronto:20190816T183000
DTSTAMP:20260419T101700
CREATED:20190816T134030Z
LAST-MODIFIED:20190816T134030Z
UID:6086-1565958600-1565980200@www.denisongolfclub.com
SUMMARY:Pau Hana 1st Annual Golf Scramble
DESCRIPTION:We invite you to play in the 1st Annual Pau Hana Golf Scramble at Denison Golf Club! \n\n\n\n\nThe Pau Hana Swim Team is a member of United States Swimming. They train out of the beautiful Trumbull Aquatic Center on Denison University’s campus. Their program offers high quality coaching and technique instruction for swimmers who desire to excel to their own unique potential. \nSaturday\, September 28th | 1:30PM Shotgun\n$75 per person | $300 per foursome \nIncludes: golf\, cart and dinner \nPrizes: longest drive\, longest putt and closest to the pin \nRaffle: OSU Football tickets (2) at the 47-yard line
URL:https://www.denisongolfclub.com/event/pau-hana-1st-annual-golf-scramble/
ATTACH;FMTTYPE=image/png:https://www.denisongolfclub.com/wp-content/uploads/2019/08/Denison-_-Outings-Invite-1.png
END:VEVENT
END:VCALENDAR