BEGIN:VCALENDAR
VERSION:2.0
PRODID:-//Denison Golf Club - ECPv6.14.1//NONSGML v1.0//EN
CALSCALE:GREGORIAN
METHOD:PUBLISH
X-ORIGINAL-URL:https://www.denisongolfclub.com
X-WR-CALDESC:Events for Denison Golf Club
REFRESH-INTERVAL;VALUE=DURATION:PT1H
X-Robots-Tag:noindex
X-PUBLISHED-TTL:PT1H
BEGIN:VTIMEZONE
TZID:America/Toronto
BEGIN:DAYLIGHT
TZOFFSETFROM:-0500
TZOFFSETTO:-0400
TZNAME:EDT
DTSTART:20190310T070000
END:DAYLIGHT
BEGIN:STANDARD
TZOFFSETFROM:-0400
TZOFFSETTO:-0500
TZNAME:EST
DTSTART:20191103T060000
END:STANDARD
END:VTIMEZONE
BEGIN:VEVENT
DTSTART;TZID=America/Toronto:20190825T120000
DTEND;TZID=America/Toronto:20190825T180000
DTSTAMP:20260420T183729
CREATED:20190813T183449Z
LAST-MODIFIED:20190813T183449Z
UID:6079-1566734400-1566756000@www.denisongolfclub.com
SUMMARY:We Ride\, You Drive Golf Outing
DESCRIPTION:Join us for this Inaugural Golf Outing supporting Pelotonia! \n\n\n\n1:00PM Shotgun Start; Registration at 12:00PM\n18 Hole Scramble Format\nSnacks and Dinner Provided \n$100 per person\nA portion of this fee goes to support Pelotonia. \n*Brought to you by Pelotonia Riders (and golfers) Sue Bottiggi\, Linda Martens and Wendy Sorenson
URL:https://www.denisongolfclub.com/event/we-ride-you-drive-golf-outing/
LOCATION:Denison Golf Club\, 555 Newark Granville Rd\, Granville\, OH\, 43023\, United States
ATTACH;FMTTYPE=image/png:https://www.denisongolfclub.com/wp-content/uploads/2019/08/Denison-_-Outings-Invite-2.png
END:VEVENT
END:VCALENDAR