BEGIN:VCALENDAR
VERSION:2.0
PRODID:-//Denison Golf Club - ECPv6.14.1//NONSGML v1.0//EN
CALSCALE:GREGORIAN
METHOD:PUBLISH
X-ORIGINAL-URL:https://www.denisongolfclub.com
X-WR-CALDESC:Events for Denison Golf Club
REFRESH-INTERVAL;VALUE=DURATION:PT1H
X-Robots-Tag:noindex
X-PUBLISHED-TTL:PT1H
BEGIN:VTIMEZONE
TZID:America/Toronto
BEGIN:DAYLIGHT
TZOFFSETFROM:-0500
TZOFFSETTO:-0400
TZNAME:EDT
DTSTART:20190310T070000
END:DAYLIGHT
BEGIN:STANDARD
TZOFFSETFROM:-0400
TZOFFSETTO:-0500
TZNAME:EST
DTSTART:20191103T060000
END:STANDARD
END:VTIMEZONE
BEGIN:VEVENT
DTSTART;TZID=America/Toronto:20191219T090000
DTEND;TZID=America/Toronto:20191223T170000
DTSTAMP:20260420T104201
CREATED:20191217T145743Z
LAST-MODIFIED:20191217T145743Z
UID:6429-1576746000-1577120400@www.denisongolfclub.com
SUMMARY:Holiday Flash Sale!
DESCRIPTION:Shop our HOLIDAY FLASH SALE for the perfect golf gift!\n\nSave in our online store.\n– Save 10% Off Gift Cards \n\nSave in our pro shop. The pro shop is open 9AM-5PM daily.\n– Cleveland Wedges on sale for $99 \n– Cleveland Putters on sale for $89 \n– Save 30% Off ALL Golf Apparel \n\nShop these deals Thursday\, 12/19 through Monday\, 12/23!\n\n\n 
URL:https://www.denisongolfclub.com/event/holiday-flash-sale/
LOCATION:Denison Golf Club\, 555 Newark Granville Rd\, Granville\, OH\, 43023\, United States
END:VEVENT
END:VCALENDAR