BEGIN:VCALENDAR
VERSION:2.0
PRODID:-//Denison Golf Club - ECPv6.14.1//NONSGML v1.0//EN
CALSCALE:GREGORIAN
METHOD:PUBLISH
X-ORIGINAL-URL:https://www.denisongolfclub.com
X-WR-CALDESC:Events for Denison Golf Club
REFRESH-INTERVAL;VALUE=DURATION:PT1H
X-Robots-Tag:noindex
X-PUBLISHED-TTL:PT1H
BEGIN:VTIMEZONE
TZID:America/Toronto
BEGIN:DAYLIGHT
TZOFFSETFROM:-0500
TZOFFSETTO:-0400
TZNAME:EDT
DTSTART:20200308T070000
END:DAYLIGHT
BEGIN:STANDARD
TZOFFSETFROM:-0400
TZOFFSETTO:-0500
TZNAME:EST
DTSTART:20201101T060000
END:STANDARD
END:VTIMEZONE
BEGIN:VEVENT
DTSTART;TZID=America/Toronto:20200811T180000
DTEND;TZID=America/Toronto:20200811T210000
DTSTAMP:20260420T032753
CREATED:20200728T145339Z
LAST-MODIFIED:20200728T145339Z
UID:6699-1597168800-1597179600@www.denisongolfclub.com
SUMMARY:Junior Clinic
DESCRIPTION:2020 Denison Golf Club Junior Clinic\nTuesdays @ 6 PM | August 4-25\n\n\nWe are excited to announce that we will be continuing to provide golf instructions for the aspiring junior golfers around the area. \n\n\n\nWe will be starting the junior clinic on Tuesday August 4th at 6pm. The clinic will run for four weeks and it will take place every Tuesday at 6 pm starting august 4th. \n\n\n\nDue to the current COVID-19 pandemic\, we will be limiting the number of spots to nine kids. This clinic designed to be a casual thing so if you are only able to make it to a couple nights for instruction that is completely fine. \n\n\n\nTo sign up please call the pro shop at (740) 587-4653. The cost will be 20 dollars per child each night. The clinic will run for about an hour to an hour and a half each Tuesday. Thanks and we hope to see you here!!! \n\n\n\n  \nLimited to 9 junior golfers- sign up today! \n\n\n\nCall us at (740) 587-4653 to sign up.
URL:https://www.denisongolfclub.com/event/junior-clinic-2/
LOCATION:Denison Golf Club\, 555 Newark Granville Rd\, Granville\, OH\, 43023\, United States
ATTACH;FMTTYPE=image/png:https://www.denisongolfclub.com/wp-content/uploads/2020/07/denison-_-junior-golf.png
END:VEVENT
END:VCALENDAR