BEGIN:VCALENDAR
VERSION:2.0
PRODID:-//Denison Golf Club - ECPv6.14.1//NONSGML v1.0//EN
CALSCALE:GREGORIAN
METHOD:PUBLISH
X-WR-CALNAME:Denison Golf Club
X-ORIGINAL-URL:https://www.denisongolfclub.com
X-WR-CALDESC:Events for Denison Golf Club
REFRESH-INTERVAL;VALUE=DURATION:PT1H
X-Robots-Tag:noindex
X-PUBLISHED-TTL:PT1H
BEGIN:VTIMEZONE
TZID:America/Toronto
BEGIN:DAYLIGHT
TZOFFSETFROM:-0500
TZOFFSETTO:-0400
TZNAME:EDT
DTSTART:20190310T070000
END:DAYLIGHT
BEGIN:STANDARD
TZOFFSETFROM:-0400
TZOFFSETTO:-0500
TZNAME:EST
DTSTART:20191103T060000
END:STANDARD
END:VTIMEZONE
BEGIN:VEVENT
DTSTART;TZID=America/Toronto:20190622T100000
DTEND;TZID=America/Toronto:20190622T140000
DTSTAMP:20260423T070240
CREATED:20190524T162515Z
LAST-MODIFIED:20190524T162515Z
UID:5884-1561197600-1561212000@www.denisongolfclub.com
SUMMARY:Demo Day
DESCRIPTION:Demo Day \nFeaturing Srixon and Cleveland Golf
URL:https://www.denisongolfclub.com/event/demo-day/
LOCATION:Denison Golf Club\, 555 Newark Granville Rd\, Granville\, OH\, 43023\, United States
ATTACH;FMTTYPE=image/png:https://www.denisongolfclub.com/wp-content/uploads/2019/05/Copy-Demo-day.png
END:VEVENT
BEGIN:VEVENT
DTSTART;TZID=America/Toronto:20190512T070000
DTEND;TZID=America/Toronto:20190512T190000
DTSTAMP:20260423T070240
CREATED:20190501T210044Z
LAST-MODIFIED:20190501T211005Z
UID:5805-1557644400-1557687600@www.denisongolfclub.com
SUMMARY:Mother's Day Special
DESCRIPTION:Join us for Mother’s Day at Denison Golf Club! \nMom plays for FREE with a paying guest. Bring the whole family out for a fun filled day to celebrate Mom🌷 \nBook Your Family Tee Time Online
URL:https://www.denisongolfclub.com/event/mothers-day-special/
LOCATION:Denison Golf Club\, 555 Newark Granville Rd\, Granville\, OH\, 43023\, United States
ATTACH;FMTTYPE=image/jpeg:https://www.denisongolfclub.com/wp-content/uploads/2019/05/Mothers-Day-Blog_Event-3.jpg
END:VEVENT
END:VCALENDAR