BEGIN:VCALENDAR
VERSION:2.0
PRODID:-//Denison Golf Club - ECPv6.14.1//NONSGML v1.0//EN
CALSCALE:GREGORIAN
METHOD:PUBLISH
X-WR-CALNAME:Denison Golf Club
X-ORIGINAL-URL:https://www.denisongolfclub.com
X-WR-CALDESC:Events for Denison Golf Club
REFRESH-INTERVAL;VALUE=DURATION:PT1H
X-Robots-Tag:noindex
X-PUBLISHED-TTL:PT1H
BEGIN:VTIMEZONE
TZID:America/Toronto
BEGIN:DAYLIGHT
TZOFFSETFROM:-0500
TZOFFSETTO:-0400
TZNAME:EDT
DTSTART:20220313T070000
END:DAYLIGHT
BEGIN:STANDARD
TZOFFSETFROM:-0400
TZOFFSETTO:-0500
TZNAME:EST
DTSTART:20221106T060000
END:STANDARD
BEGIN:DAYLIGHT
TZOFFSETFROM:-0500
TZOFFSETTO:-0400
TZNAME:EDT
DTSTART:20230312T070000
END:DAYLIGHT
BEGIN:STANDARD
TZOFFSETFROM:-0400
TZOFFSETTO:-0500
TZNAME:EST
DTSTART:20231105T060000
END:STANDARD
BEGIN:DAYLIGHT
TZOFFSETFROM:-0500
TZOFFSETTO:-0400
TZNAME:EDT
DTSTART:20240310T070000
END:DAYLIGHT
BEGIN:STANDARD
TZOFFSETFROM:-0400
TZOFFSETTO:-0500
TZNAME:EST
DTSTART:20241103T060000
END:STANDARD
END:VTIMEZONE
BEGIN:VEVENT
DTSTART;TZID=America/Toronto:20220719T180000
DTEND;TZID=America/Toronto:20220719T190000
DTSTAMP:20260423T114143
CREATED:20220610T180722Z
LAST-MODIFIED:20220610T180722Z
UID:7581-1658253600-1658257200@www.denisongolfclub.com
SUMMARY:Junior Clinic
DESCRIPTION:Denison Golf Club Junior Clinic\nHow will your children spend their summer? Learning the game of golf and perfecting your skills at Denison Golf Club is great summer fun! \nAll kids\, all levels from age 7-15 are welcomed to join! \nTuesday\, July 5th 6-7PM\nTuesday\, July 12th 6-7PM\nTuesday\, July 19th 6-7PM\nTuesday\, July 26th 6-7PM\nTuesday\, August 2nd 6-7PM\nTuesday\, August 9th 6-7PM \nFee: $20 per child per night \nCall the Golf Shop at (740) 587-4653 to sign up or fill out the form below!
URL:https://www.denisongolfclub.com/event/junior-clinic-8/
LOCATION:OH
ATTACH;FMTTYPE=image/png:https://www.denisongolfclub.com/wp-content/uploads/2022/06/Denison-Junior-Golf-Clinic-Facebook-Event-Cover.png
END:VEVENT
BEGIN:VEVENT
DTSTART;TZID=America/Toronto:20220725T120000
DTEND;TZID=America/Toronto:20220725T120000
DTSTAMP:20260423T114143
CREATED:20220602T151114Z
LAST-MODIFIED:20220602T151114Z
UID:7558-1658750400-1658750400@www.denisongolfclub.com
SUMMARY:Lou Mitchell Memorial Golf Outing
DESCRIPTION:LOU MITCHELL MEMORIAL GOLF OUTING\nFOR SUICIDE PREVENTION\nMonday\, July 25\, 2022\nMental Health America of Licking County invites you to an event to remember a great man and to raise money for a great cause. \nCheck in 12:00 ~ Start 1:00 pm ~ Dinner 6:00 pm\nRegister below or call (740) 522-1341 \n\nDenison Golf Club\n555 Newark-Granville Road\, Granville\, OH
URL:https://www.denisongolfclub.com/event/lou-mitchell-memorial-golf-outing/
LOCATION:OH
ATTACH;FMTTYPE=image/png:https://www.denisongolfclub.com/wp-content/uploads/2022/06/Golf-Outing-Social-Facebook-Event-Cover.png
END:VEVENT
BEGIN:VEVENT
DTSTART;TZID=America/Toronto:20220726T180000
DTEND;TZID=America/Toronto:20220726T190000
DTSTAMP:20260423T114143
CREATED:20220610T180717Z
LAST-MODIFIED:20220610T180717Z
UID:7580-1658858400-1658862000@www.denisongolfclub.com
SUMMARY:Junior Clinic
DESCRIPTION:Denison Golf Club Junior Clinic\nHow will your children spend their summer? Learning the game of golf and perfecting your skills at Denison Golf Club is great summer fun! \nAll kids\, all levels from age 7-15 are welcomed to join! \nTuesday\, July 5th 6-7PM\nTuesday\, July 12th 6-7PM\nTuesday\, July 19th 6-7PM\nTuesday\, July 26th 6-7PM\nTuesday\, August 2nd 6-7PM\nTuesday\, August 9th 6-7PM \nFee: $20 per child per night \nCall the Golf Shop at (740) 587-4653 to sign up or fill out the form below!
URL:https://www.denisongolfclub.com/event/junior-clinic-7/
LOCATION:OH
ATTACH;FMTTYPE=image/png:https://www.denisongolfclub.com/wp-content/uploads/2022/06/Denison-Junior-Golf-Clinic-Facebook-Event-Cover.png
END:VEVENT
BEGIN:VEVENT
DTSTART;TZID=America/Toronto:20220802T180000
DTEND;TZID=America/Toronto:20220802T190000
DTSTAMP:20260423T114143
CREATED:20220610T180712Z
LAST-MODIFIED:20220610T180712Z
UID:7579-1659463200-1659466800@www.denisongolfclub.com
SUMMARY:Junior Clinic
DESCRIPTION:Denison Golf Club Junior Clinic\nHow will your children spend their summer? Learning the game of golf and perfecting your skills at Denison Golf Club is great summer fun! \nAll kids\, all levels from age 7-15 are welcomed to join! \nTuesday\, July 5th 6-7PM\nTuesday\, July 12th 6-7PM\nTuesday\, July 19th 6-7PM\nTuesday\, July 26th 6-7PM\nTuesday\, August 2nd 6-7PM\nTuesday\, August 9th 6-7PM \nFee: $20 per child per night \nCall the Golf Shop at (740) 587-4653 to sign up or fill out the form below!
URL:https://www.denisongolfclub.com/event/junior-clinic-6/
LOCATION:OH
ATTACH;FMTTYPE=image/png:https://www.denisongolfclub.com/wp-content/uploads/2022/06/Denison-Junior-Golf-Clinic-Facebook-Event-Cover.png
END:VEVENT
BEGIN:VEVENT
DTSTART;TZID=America/Toronto:20220809T180000
DTEND;TZID=America/Toronto:20220809T190000
DTSTAMP:20260423T114143
CREATED:20220610T180707Z
LAST-MODIFIED:20220610T180707Z
UID:7578-1660068000-1660071600@www.denisongolfclub.com
SUMMARY:Junior Clinic
DESCRIPTION:Denison Golf Club Junior Clinic\nHow will your children spend their summer? Learning the game of golf and perfecting your skills at Denison Golf Club is great summer fun! \nAll kids\, all levels from age 7-15 are welcomed to join! \nTuesday\, July 5th 6-7PM\nTuesday\, July 12th 6-7PM\nTuesday\, July 19th 6-7PM\nTuesday\, July 26th 6-7PM\nTuesday\, August 2nd 6-7PM\nTuesday\, August 9th 6-7PM \nFee: $20 per child per night \nCall the Golf Shop at (740) 587-4653 to sign up or fill out the form below!
URL:https://www.denisongolfclub.com/event/junior-clinic-5/
LOCATION:OH
ATTACH;FMTTYPE=image/png:https://www.denisongolfclub.com/wp-content/uploads/2022/06/Denison-Junior-Golf-Clinic-Facebook-Event-Cover.png
END:VEVENT
BEGIN:VEVENT
DTSTART;VALUE=DATE:20220912
DTEND;VALUE=DATE:20220913
DTSTAMP:20260423T114143
CREATED:20220812T133415Z
LAST-MODIFIED:20220812T133415Z
UID:7623-1662940800-1663027199@www.denisongolfclub.com
SUMMARY:Granville Area Chamber of Commerce 14th Annual Golf Outing
DESCRIPTION:Granville Area Chamber of Commerce 14th Annual Golf Outing\nSponsored by the Granville Investment Group\nMonday\, September 12\, 2022\n11:30am – Registration\n12pm – Boxed Lunch\n1pm Tee off \n4 Person 18 hole scramble with cart\n$500 Per Foursome\n$125 Per Person \nEvent Sponsor\, $1\,500\n\nFoursome of golf\nBanner with logo on Broadway median\nBusiness logo on GACC Website & Social Media\nBusiness logo in event program\n\nEagle Sponsor\, $900\n\nFoursome of golf\nBusiness logo on GACC Website & Social Media\nBusiness logo in event program\n\nBirdie Sponsor\, $600\n\nFoursome of golf\nBusiness logo in event program\n\nDinner Sponsor (2 available)\, $750\n\nBusiness logo on GACC Website & Social Media\nBusiness logo in event program\n\nLunch Sponsor (2 available)\, $500\n\nBusiness logo on GACC Website & Social Media\nBusiness logo in event program\n\nGolf Cart Sponsor\, $500\n\nGolf cart Signage\n\nBeverage Cart Sponsor (2 available)\, $300\n\nBeverage Cart Signage\n\nHole Sponsor\, $150\n\nBusiness logo sign at tee\n\nPlease contact Steve at smatheny@granvilleoh.com with any questions. \nMail check and this form to: Granville Area Chamber of Commerce P.O. Box 603 Granville\, OH 43023 ALL CHECKS PAYABLE TO: GRANVILLE AREA CHAMBER OF COMMERCE or
URL:https://www.denisongolfclub.com/event/granville-area-chamber-of-commerce-14th-annual-golf-outing/
LOCATION:OH
ATTACH;FMTTYPE=image/png:https://www.denisongolfclub.com/wp-content/uploads/2022/08/Denison-Granville-Area-Chamber-of-Commerce-14th-Annual-Golf-Outing-Facebook-Event-Cover.png
END:VEVENT
BEGIN:VEVENT
DTSTART;VALUE=DATE:20221118
DTEND;VALUE=DATE:20221221
DTSTAMP:20260423T114143
CREATED:20221118T050532Z
LAST-MODIFIED:20221025T143932Z
UID:7646-1668729600-1671580799@www.denisongolfclub.com
SUMMARY:Black Friday
DESCRIPTION:Save on gifts for the special golfer in your life!\nIt’s the holidays – skip the stress of shopping & spend more time with your family!  Shop our specials to get all your gifts in one place. \nAvailable Black Friday\, November 18 – December 20! \nOnline & In-Store:\n• 10% OFF all Gift Cards \n\nIn-Store Only:\n• 25% OFF apparel\n• 25% OFF all Cleveland putters and wedges
URL:https://www.denisongolfclub.com/event/black-friday-2/
LOCATION:OH
END:VEVENT
BEGIN:VEVENT
DTSTART;VALUE=DATE:20221128
DTEND;VALUE=DATE:20221129
DTSTAMP:20260423T114143
CREATED:20221128T100059Z
LAST-MODIFIED:20221025T144636Z
UID:7654-1669593600-1669679999@www.denisongolfclub.com
SUMMARY:Cyber Monday
DESCRIPTION:Don’t Miss Out!\nCyber Monday deals are here! Take advantage of these sales to get something special for the golfer in your life. \nOnline & In-Store:\n• 10% OFF all Gift Cards \n\nIn-Store Only:\n• 25% OFF apparel\n• 25% OFF all Cleveland putters and wedges
URL:https://www.denisongolfclub.com/event/cyber-monday-2/
LOCATION:OH
END:VEVENT
BEGIN:VEVENT
DTSTART;VALUE=DATE:20230214
DTEND;VALUE=DATE:20230215
DTSTAMP:20260423T114143
CREATED:20230131T193623Z
LAST-MODIFIED:20230131T193623Z
UID:7801-1676332800-1676419199@www.denisongolfclub.com
SUMMARY:Happy Valentines Day!
DESCRIPTION:Happy Valentines Day!\nFrom Denison Golf Club\n  \nSpend the day with the special person in your life!\nCheck out our specials! \n 
URL:https://www.denisongolfclub.com/event/happy-valentines-day/
LOCATION:Denison Golf Club\, 555 Newark Granville Rd\, Granville\, OH\, 43023\, United States
ATTACH;FMTTYPE=image/png:https://www.denisongolfclub.com/wp-content/uploads/2023/01/Denison-Golf-Club-OH-⎮-2023-Valentines-Day-Facebook-Event-Cover.png
END:VEVENT
BEGIN:VEVENT
DTSTART;VALUE=DATE:20240831
DTEND;VALUE=DATE:20240902
DTSTAMP:20260423T114143
CREATED:20240819T200035Z
LAST-MODIFIED:20240819T200035Z
UID:8106-1725062400-1725235199@www.denisongolfclub.com
SUMMARY:Denison University Invitational
DESCRIPTION:
URL:https://www.denisongolfclub.com/event/denison-university-invitational/
LOCATION:OH
END:VEVENT
BEGIN:VEVENT
DTSTART;VALUE=DATE:20240906
DTEND;VALUE=DATE:20240907
DTSTAMP:20260423T114143
CREATED:20240819T200049Z
LAST-MODIFIED:20240819T200049Z
UID:8105-1725580800-1725667199@www.denisongolfclub.com
SUMMARY:Licking County YMCA
DESCRIPTION:
URL:https://www.denisongolfclub.com/event/licking-county-ymca/
LOCATION:OH
END:VEVENT
BEGIN:VEVENT
DTSTART;VALUE=DATE:20240909
DTEND;VALUE=DATE:20240910
DTSTAMP:20260423T114143
CREATED:20240819T200109Z
LAST-MODIFIED:20240819T200109Z
UID:8112-1725840000-1725926399@www.denisongolfclub.com
SUMMARY:Granville Chamber
DESCRIPTION:
URL:https://www.denisongolfclub.com/event/granville-chamber/
LOCATION:OH
END:VEVENT
BEGIN:VEVENT
DTSTART;VALUE=DATE:20240914
DTEND;VALUE=DATE:20240915
DTSTAMP:20260423T114143
CREATED:20240819T200120Z
LAST-MODIFIED:20240819T200120Z
UID:8111-1726272000-1726358399@www.denisongolfclub.com
SUMMARY:Pau Hana Swim Classic
DESCRIPTION:
URL:https://www.denisongolfclub.com/event/pau-hana-swim-classic/
LOCATION:OH
END:VEVENT
BEGIN:VEVENT
DTSTART;VALUE=DATE:20240916
DTEND;VALUE=DATE:20240917
DTSTAMP:20260423T114143
CREATED:20240819T200140Z
LAST-MODIFIED:20240819T200140Z
UID:8119-1726444800-1726531199@www.denisongolfclub.com
SUMMARY:Licking Memorial Hospital Golf Gala
DESCRIPTION:
URL:https://www.denisongolfclub.com/event/licking-memorial-hospital-golf-gala/
LOCATION:OH
END:VEVENT
BEGIN:VEVENT
DTSTART;VALUE=DATE:20240920
DTEND;VALUE=DATE:20240921
DTSTAMP:20260423T114143
CREATED:20240819T200152Z
LAST-MODIFIED:20240819T200152Z
UID:8118-1726790400-1726876799@www.denisongolfclub.com
SUMMARY:Licking County Chamber of Commerce
DESCRIPTION:
URL:https://www.denisongolfclub.com/event/licking-county-chamber-of-commerce/
LOCATION:OH
END:VEVENT
BEGIN:VEVENT
DTSTART;VALUE=DATE:20240927
DTEND;VALUE=DATE:20240928
DTSTAMP:20260423T114143
CREATED:20240819T200200Z
LAST-MODIFIED:20240819T200200Z
UID:8117-1727395200-1727481599@www.denisongolfclub.com
SUMMARY:Ohio Department of Transportation
DESCRIPTION:
URL:https://www.denisongolfclub.com/event/ohio-department-of-transportation/
LOCATION:OH
END:VEVENT
BEGIN:VEVENT
DTSTART;VALUE=DATE:20240928
DTEND;VALUE=DATE:20240929
DTSTAMP:20260423T114143
CREATED:20240819T200221Z
LAST-MODIFIED:20240819T200221Z
UID:8128-1727481600-1727567999@www.denisongolfclub.com
SUMMARY:Denison University Golf and Lacrosse Event
DESCRIPTION:
URL:https://www.denisongolfclub.com/event/denison-university-golf-and-lacrosse-event/
LOCATION:OH
END:VEVENT
BEGIN:VEVENT
DTSTART;VALUE=DATE:20241012
DTEND;VALUE=DATE:20241013
DTSTAMP:20260423T114143
CREATED:20240819T200234Z
LAST-MODIFIED:20240819T200234Z
UID:8127-1728691200-1728777599@www.denisongolfclub.com
SUMMARY:Adjust your Sails Event to Benefit the James Cancer Hospital
DESCRIPTION:
URL:https://www.denisongolfclub.com/event/adjust-your-sails-event-to-benefit-the-james-cancer-hospital/
LOCATION:OH
END:VEVENT
BEGIN:VEVENT
DTSTART;VALUE=DATE:20241026
DTEND;VALUE=DATE:20241027
DTSTAMP:20260423T114143
CREATED:20240819T200244Z
LAST-MODIFIED:20240819T200244Z
UID:8126-1729900800-1729987199@www.denisongolfclub.com
SUMMARY:Denison University Private Event
DESCRIPTION:
URL:https://www.denisongolfclub.com/event/denison-university-private-event/
LOCATION:OH
END:VEVENT
END:VCALENDAR