BEGIN:VCALENDAR
VERSION:2.0
PRODID:-//Denison Golf Club - ECPv6.14.1//NONSGML v1.0//EN
CALSCALE:GREGORIAN
METHOD:PUBLISH
X-WR-CALNAME:Denison Golf Club
X-ORIGINAL-URL:https://www.denisongolfclub.com
X-WR-CALDESC:Events for Denison Golf Club
REFRESH-INTERVAL;VALUE=DURATION:PT1H
X-Robots-Tag:noindex
X-PUBLISHED-TTL:PT1H
BEGIN:VTIMEZONE
TZID:America/Toronto
BEGIN:DAYLIGHT
TZOFFSETFROM:-0500
TZOFFSETTO:-0400
TZNAME:EDT
DTSTART:20190310T070000
END:DAYLIGHT
BEGIN:STANDARD
TZOFFSETFROM:-0400
TZOFFSETTO:-0500
TZNAME:EST
DTSTART:20191103T060000
END:STANDARD
END:VTIMEZONE
BEGIN:VEVENT
DTSTART;VALUE=DATE:20191129
DTEND;VALUE=DATE:20191130
DTSTAMP:20260423T081459
CREATED:20191030T174203Z
LAST-MODIFIED:20191030T174203Z
UID:6349-1574985600-1575071999@www.denisongolfclub.com
SUMMARY:Black Friday Mega Sale
DESCRIPTION:Don’t miss out on Black Friday at Denison! \nOnline Sale – ONE DAY ONLY\, 11/29\nIn Store Sale – 11/25-11/29 during regular hours \nShop here: https://www.denisongolfclub.com/online-store/
URL:https://www.denisongolfclub.com/event/black-friday-mega-sale/
LOCATION:Denison Golf Club\, 555 Newark Granville Rd\, Granville\, OH\, 43023\, United States
ATTACH;FMTTYPE=image/png:https://www.denisongolfclub.com/wp-content/uploads/2019/10/Denison-_-Black-Friday-1.png
END:VEVENT
END:VCALENDAR