BEGIN:VCALENDAR
VERSION:2.0
PRODID:-//Denison Golf Club - ECPv6.14.1//NONSGML v1.0//EN
CALSCALE:GREGORIAN
METHOD:PUBLISH
X-ORIGINAL-URL:https://www.denisongolfclub.com
X-WR-CALDESC:Events for Denison Golf Club
REFRESH-INTERVAL;VALUE=DURATION:PT1H
X-Robots-Tag:noindex
X-PUBLISHED-TTL:PT1H
BEGIN:VTIMEZONE
TZID:America/Toronto
BEGIN:DAYLIGHT
TZOFFSETFROM:-0500
TZOFFSETTO:-0400
TZNAME:EDT
DTSTART:20210314T070000
END:DAYLIGHT
BEGIN:STANDARD
TZOFFSETFROM:-0400
TZOFFSETTO:-0500
TZNAME:EST
DTSTART:20211107T060000
END:STANDARD
END:VTIMEZONE
BEGIN:VEVENT
DTSTART;VALUE=DATE:20210601
DTEND;VALUE=DATE:20210602
DTSTAMP:20260423T205740
CREATED:20210517T195203Z
LAST-MODIFIED:20210517T195203Z
UID:6987-1622505600-1622591999@www.denisongolfclub.com
SUMMARY:Women's Golf Day!
DESCRIPTION:Women’s Golf Day!\nOn June 1st\, grab your friends for Women’s Golf Day to play golf by enjoying a golf and cart special! All ladies play for $35 all day long\, but don’t forget about after the round. Stop by for a drink special and enjoy $5 glass of fine wine! \nBook your round today!
URL:https://www.denisongolfclub.com/event/womens-golf-day/
LOCATION:Denison Golf Club\, 555 Newark Granville Rd\, Granville\, OH\, 43023\, United States
ATTACH;FMTTYPE=image/png:https://www.denisongolfclub.com/wp-content/uploads/2021/05/denison-womens-golf-day-1.png
END:VEVENT
BEGIN:VEVENT
DTSTART;VALUE=DATE:20210613
DTEND;VALUE=DATE:20210621
DTSTAMP:20260423T205740
CREATED:20210610T152037Z
LAST-MODIFIED:20210610T152037Z
UID:7018-1623542400-1624233599@www.denisongolfclub.com
SUMMARY:Father's Day Special
DESCRIPTION:Still need a gift for Dad?\nShop our online store for awesome gifts for Dad (or yourself)! \nSave on gift cards in our online store OR shop in our store for 20% off! \n\nSHOP ONLINE ➡️
URL:https://www.denisongolfclub.com/event/fathers-day-special/
LOCATION:Denison Golf Club\, 555 Newark Granville Rd\, Granville\, OH\, 43023\, United States
ATTACH;FMTTYPE=image/png:https://www.denisongolfclub.com/wp-content/uploads/2021/06/Jodis-Fathers-Day-Design-2-web.png
END:VEVENT
END:VCALENDAR