BEGIN:VCALENDAR
VERSION:2.0
PRODID:-//Denison Golf Club - ECPv6.14.1//NONSGML v1.0//EN
CALSCALE:GREGORIAN
METHOD:PUBLISH
X-ORIGINAL-URL:https://www.denisongolfclub.com
X-WR-CALDESC:Events for Denison Golf Club
REFRESH-INTERVAL;VALUE=DURATION:PT1H
X-Robots-Tag:noindex
X-PUBLISHED-TTL:PT1H
BEGIN:VTIMEZONE
TZID:America/Toronto
BEGIN:DAYLIGHT
TZOFFSETFROM:-0500
TZOFFSETTO:-0400
TZNAME:EDT
DTSTART:20210314T070000
END:DAYLIGHT
BEGIN:STANDARD
TZOFFSETFROM:-0400
TZOFFSETTO:-0500
TZNAME:EST
DTSTART:20211107T060000
END:STANDARD
END:VTIMEZONE
BEGIN:VEVENT
DTSTART;TZID=America/Toronto:20210803T173000
DTEND;TZID=America/Toronto:20210803T200000
DTSTAMP:20260420T094112
CREATED:20210517T175324Z
LAST-MODIFIED:20210517T175324Z
UID:6972-1628011800-1628020800@www.denisongolfclub.com
SUMMARY:Trevor Bright Junior Camp
DESCRIPTION:Trevor Bright Junior camp dates\nAugust 3rd @ 5:30 \nAugust 10th @ 5:30 \nAugust 17th @ 5:30 \nEach session will run for one hour to an hour and a half.  $20 for each child per week.  Instruction will alternate between the driving range and the short game area.  If the golf course is available on the last night\, there will be a fun little scramble. \nPlease contact the Pro Shop at 740-587-4653 to sign up.
URL:https://www.denisongolfclub.com/event/trevor-bright-junior-camp-5/
LOCATION:Denison Golf Club\, 555 Newark Granville Rd\, Granville\, OH\, 43023\, United States
ATTACH;FMTTYPE=image/png:https://www.denisongolfclub.com/wp-content/uploads/2021/05/denison-junior-golf-camp-1.png
END:VEVENT
BEGIN:VEVENT
DTSTART;TZID=America/Toronto:20210810T173000
DTEND;TZID=America/Toronto:20210810T200000
DTSTAMP:20260420T094112
CREATED:20210517T175409Z
LAST-MODIFIED:20210517T175409Z
UID:6975-1628616600-1628625600@www.denisongolfclub.com
SUMMARY:Trevor Bright Junior Camp
DESCRIPTION:Trevor Bright Junior camp dates\nAugust 10th @ 5:30 \nAugust 17th @ 5:30 \nEach session will run for one hour to an hour and a half.  $20 for each child per week.  Instruction will alternate between the driving range and the short game area.  If the golf course is available on the last night\, there will be a fun little scramble. \nPlease contact the Pro Shop at 740-587-4653 to sign up.
URL:https://www.denisongolfclub.com/event/trevor-bright-junior-camp-6/
LOCATION:Denison Golf Club\, 555 Newark Granville Rd\, Granville\, OH\, 43023\, United States
ATTACH;FMTTYPE=image/png:https://www.denisongolfclub.com/wp-content/uploads/2021/05/denison-junior-golf-camp-1.png
END:VEVENT
BEGIN:VEVENT
DTSTART;TZID=America/Toronto:20210817T173000
DTEND;TZID=America/Toronto:20210817T200000
DTSTAMP:20260420T094112
CREATED:20210517T175430Z
LAST-MODIFIED:20210517T175430Z
UID:6976-1629221400-1629230400@www.denisongolfclub.com
SUMMARY:Trevor Bright Junior Camp
DESCRIPTION:Trevor Bright Junior camp dates\nAugust 17th @ 5:30 \nEach session will run for one hour to an hour and a half.  $20 for each child per week.  Instruction will alternate between the driving range and the short game area.  If the golf course is available on the last night\, there will be a fun little scramble. \nPlease contact the Pro Shop at 740-587-4653 to sign up.
URL:https://www.denisongolfclub.com/event/trevor-bright-junior-camp-7/
LOCATION:Denison Golf Club\, 555 Newark Granville Rd\, Granville\, OH\, 43023\, United States
ATTACH;FMTTYPE=image/png:https://www.denisongolfclub.com/wp-content/uploads/2021/05/denison-junior-golf-camp-1.png
END:VEVENT
BEGIN:VEVENT
DTSTART;TZID=America/Toronto:20210830T120000
DTEND;TZID=America/Toronto:20210830T190000
DTSTAMP:20260420T094112
CREATED:20210817T174041Z
LAST-MODIFIED:20210817T174933Z
UID:7137-1630324800-1630350000@www.denisongolfclub.com
SUMMARY:LOU MITCHELL MEMORIAL GOLF OUTING FOR SUICIDE PREVENTION
DESCRIPTION:LOU MITCHELL MEMORIAL GOLF OUTING FOR SUICIDE PREVENTION\nMonday\, August 30\, 2021\nCheck in: Noon ~ Simultaneous Start: 1:00 pm ~ Dinner 6:00 pm \nMental Health America of Licking County invites you to an event\nto remember a great man and to raise money for a great cause.\n  \n\n \nDear Friends\, \nMental Health America of Licking County (MHALC) is holding the 8th Annual Lou Mitchell Memorial Golf Outing on August 30\, 2021 to raise funds for our Suicide Prevention Program. We are grateful to have permission from Lou Mitchell’s family to use his name to raise awareness about preventing suicides. Won’t you join us in this great cause? On the reverse you will find information to sponsor and/or register for the Lou Mitchell Memorial Golf Outing at Denison Golf Club. In the case of inclement weather\, the Lou Mitchell Memorial Golf Outing will not be rescheduled. Golf vouchers will be given to each golfer\, and the dinner will proceed as scheduled at 6:00 pm. Team Captains will be notified of all updates. I hope that you\, your company\, family\, friends and neighbors will join MHALC at this event. We are very grateful for your support. \nYours for good mental health\, \nPenny C. Sitler Executive Director psitler@mhalc.org (740) 522-1341\n  \n\n \nParticipation Options \n• $3\,000\nTitle Sponsor: This partnership includes an exclusive full color banner with your logo and information\, logo in ALL player carts\, a 4-person team\, two golf carts\, four dinners and a tee sign. \n• $1\,500\nTournament Sponsor: This sponsorship includes a listing of your logo and information on a full color banner\, a 4-person team\, two golf carts\, four dinners and a tee sign. \n• $750\nBeverage Cart Sponsor: This level includes a large laminated version of your business card on a beverage cart\, a 4-person team\, two golf carts and four dinners \n• $600\nTee Sponsor with a 4-person team: This level includes a tee sign\, a 4-person team\, two golf carts and four dinners. \n• $400\nTeam Only: Includes a 4-person team\, two golf carts and four dinners. \n• $200\nTee Sponsor ONLY: This level includes a specially created tee sign for you placed at a tee. \n• $100\nIndividual: Don’t have a team? Don’t worry—we’ll match you up to play! \n• $35 per meal\nDinner Only: (Please include names of DINNER ONLY guests above) \nPayment Options:\nMail check and registration form to:\nMental Health America\, 65 Messimer Drive\, Unit 3\, Newark\, Ohio 43055\n2. Fax registration to (740) 522-4464 or call (740) 522-1341 to make a credit card payment.\n3. Have us send your company an invoice for the amount noted above.\n4. Register at www.mhalc.org and pay online with PayPal. (Click on Lou Mitchell Memorial Golf Outing).\n*Please keep a copy of your registration \nBoard of Trustees 2020-2021\nJoe Ebel\, President\nMareion Royster\, 1st Vice President\nBrian Haught\, 2nd Vice President\nMatt McKenzie\, Treasurer\nMaura Horgan\, Immediate Past President\nNathan Arnold Chad Brown Brad Copley Trevor Garber Jacquie Goumas Fox Dave Hardy Cher Jackson Deb Matesich Will McCoy Dustin Neely Christy Oprandi Mackenzie Peterson\, PsyD Diana Vlachos\n 
URL:https://www.denisongolfclub.com/event/lou-mitchell-memorial-golf-outing-for-suicide-prevention/
ATTACH;FMTTYPE=image/png:https://www.denisongolfclub.com/wp-content/uploads/2021/08/denison-LOU-MITCHELL-MEMORIAL-GOLF-OUTING-FOR-SUICIDE-PREVENTION-1.png
END:VEVENT
END:VCALENDAR